BEGIN:VCALENDAR
VERSION:2.0
PRODID:-//Winevalley Chapter - ECPv6.9.0//NONSGML v1.0//EN
CALSCALE:GREGORIAN
METHOD:PUBLISH
X-ORIGINAL-URL:https://winevalley-chapter.ch
X-WR-CALDESC:Veranstaltungen für Winevalley Chapter
REFRESH-INTERVAL;VALUE=DURATION:PT1H
X-Robots-Tag:noindex
X-PUBLISHED-TTL:PT1H
BEGIN:VTIMEZONE
TZID:Europe/Paris
BEGIN:DAYLIGHT
TZOFFSETFROM:+0100
TZOFFSETTO:+0200
TZNAME:CEST
DTSTART:20230326T010000
END:DAYLIGHT
BEGIN:STANDARD
TZOFFSETFROM:+0200
TZOFFSETTO:+0100
TZNAME:CET
DTSTART:20231029T010000
END:STANDARD
END:VTIMEZONE
BEGIN:VEVENT
DTSTART;VALUE=DATE:20230812
DTEND;VALUE=DATE:20230815
DTSTAMP:20260423T172539
CREATED:20230531T050821Z
LAST-MODIFIED:20230531T053117Z
UID:644-1691805600-1691978399@winevalley-chapter.ch
SUMMARY:20-jähriges Jubiläum Basel Chapter
DESCRIPTION:Infos: \nFlyer \nLiebe Biker und Bikerinnen \n20th Jubifeier vom Basel Chapter – wer kommt mit? \nSobald wir wissen wer kommt\, können wir die Anfahrt und Hotel organisieren.\nACHTUNG! Man muss sich dann noch selber anmelden (ich schicke später nochmals die Einladung mit Link). \nBitte bis spätestens 30.04.2023 im Xoyondo eintragen: \nhttps://xoyondo.com/dp/JCUViUjK7m2IiwC \nWir freuen uns auf viele Teilnehmer. \nHerzliche Grüsse\nWinevalley Chapter \nClaudia Röthlisberger \nActivities Officer/Secretary \n  \nHallo zusammen  \nDas BASEL CHAPTER SWITZERLAND feiert im 2023 sein 20-Jähriges Jubiläum.\nEs würde uns sehr freuen\, Euch alle in Basel am 12.08.2023 willkommen zu heissen. Es sind alle Chapters mit ihren Members willkommen.\nAlle weiteren Details teilen wir dann im Frühling 2023 mit.    \nWünsche Euch allen einen schönen Indian Summer und noch einige sonnige KM’s auf Euren Bikes.  \nChristian Becker \nDirector Basel Chapter \n  \nVerantwortung: \nDie Teilnehmer fahren auf eigene Verantwortung und Gefahr und halten sich im Interesse aller an die Strassenverkehrsordnung (StVO). Der Tourguide des Winevalley-Chapters lehnt gegenüber Fahrer/Innen\, Helfer und Drittpersonen jegliche Haftung für Sach- und Personenschäden ab. Jede(r) Fahrer/In ist alleine für seine Versicherung des Fahrzeuges verantwortlich. Durch die Teilnahme an den Ausfahrten und Veranstaltungen verzichtet jede(r) Fahrer/In auf irgendwelche Entschädigungsansprüche (Unfall\, Verletzungen\, usw.). Wir bitten deshalb alle Teilnehmer um volle Rücksicht.
URL:https://winevalley-chapter.ch/anlass/20-jaehriges-jubilaeum-basel-chapter/
CATEGORIES:Sonstige Veranstaltung
END:VEVENT
END:VCALENDAR