BEGIN:VCALENDAR
VERSION:2.0
PRODID:-//Winevalley Chapter - ECPv6.9.0//NONSGML v1.0//EN
CALSCALE:GREGORIAN
METHOD:PUBLISH
X-ORIGINAL-URL:https://winevalley-chapter.ch
X-WR-CALDESC:Veranstaltungen für Winevalley Chapter
REFRESH-INTERVAL;VALUE=DURATION:PT1H
X-Robots-Tag:noindex
X-PUBLISHED-TTL:PT1H
BEGIN:VTIMEZONE
TZID:Europe/Paris
BEGIN:DAYLIGHT
TZOFFSETFROM:+0100
TZOFFSETTO:+0200
TZNAME:CEST
DTSTART:20230326T010000
END:DAYLIGHT
BEGIN:STANDARD
TZOFFSETFROM:+0200
TZOFFSETTO:+0100
TZNAME:CET
DTSTART:20231029T010000
END:STANDARD
END:VTIMEZONE
BEGIN:VEVENT
DTSTART;VALUE=DATE:20230916
DTEND;VALUE=DATE:20230919
DTSTAMP:20260423T153554
CREATED:20230531T051733Z
LAST-MODIFIED:20230909T151715Z
UID:662-1694829600-1695002399@winevalley-chapter.ch
SUMMARY:C.O.R.E. 2023
DESCRIPTION:Infos: \nC.O.R.E. 2023 mit Teilnahme des Winevalley-Chapters
URL:https://winevalley-chapter.ch/anlass/c-o-r-e-2023/
CATEGORIES:Sonstige Veranstaltung
END:VEVENT
END:VCALENDAR