BEGIN:VCALENDAR
VERSION:2.0
PRODID:-//Winevalley Chapter - ECPv6.9.0//NONSGML v1.0//EN
CALSCALE:GREGORIAN
METHOD:PUBLISH
X-WR-CALNAME:Winevalley Chapter
X-ORIGINAL-URL:https://winevalley-chapter.ch
X-WR-CALDESC:Veranstaltungen für Winevalley Chapter
REFRESH-INTERVAL;VALUE=DURATION:PT1H
X-Robots-Tag:noindex
X-PUBLISHED-TTL:PT1H
BEGIN:VTIMEZONE
TZID:Europe/Paris
BEGIN:DAYLIGHT
TZOFFSETFROM:+0100
TZOFFSETTO:+0200
TZNAME:CEST
DTSTART:20230326T010000
END:DAYLIGHT
BEGIN:STANDARD
TZOFFSETFROM:+0200
TZOFFSETTO:+0100
TZNAME:CET
DTSTART:20231029T010000
END:STANDARD
END:VTIMEZONE
BEGIN:VEVENT
DTSTART;VALUE=DATE:20231027
DTEND;VALUE=DATE:20231031
DTSTAMP:20260423T120400
CREATED:20231002T062544Z
LAST-MODIFIED:20231002T112045Z
UID:2052-1698372000-1698627599@winevalley-chapter.ch
SUMMARY:Telethon "Bikers Village" Lugano
DESCRIPTION:Telethon „Bikers Village“ Lugano\nFlyer hier klicken \nFür weitere Infos und Anmeldung hier klicken \n  \nVerantwortung: \nDie Teilnehmer fahren auf eigene Verantwortung und Gefahr und halten sich im Interesse aller an die Strassenverkehrsordnung (StVO). Der Tourguide des Winevalley-Chapters lehnt gegenüber Fahrer/Innen\, Helfer und Drittpersonen jegliche Haftung für Sach- und Personenschäden ab. Jede(r) Fahrer/In ist alleine für seine Versicherung des Fahrzeuges verantwortlich. Durch die Teilnahme an den Ausfahrten und Veranstaltungen verzichtet jede(r) Fahrer/In auf irgendwelche Entschädigungsansprüche (Unfall\, Verletzungen\, usw.). Wir bitten deshalb alle Teilnehmer um volle Rücksicht.
URL:https://winevalley-chapter.ch/anlass/2052/
LOCATION:Lugano\, Schweiz
CATEGORIES:Sonstige Veranstaltung
END:VEVENT
BEGIN:VEVENT
DTSTART;VALUE=DATE:20231029
DTEND;VALUE=DATE:20231031
DTSTAMP:20260423T120400
CREATED:20230531T052219Z
LAST-MODIFIED:20231028T071427Z
UID:673-1698544800-1698627599@winevalley-chapter.ch
SUMMARY:Schlotter-Ride
DESCRIPTION:Liebe Bikerinnen und Biker \nTreffpunkt: 09:30 Uhr Agrola Tankstelle Weinfelden \nAbfahrt: 09:45 Uhr \nWir fahren ca. 1 Stunde zur Hulftegg wo wir uns beim Kaffee wieder aufwärmen können. Weiter geht es nach Goldingen\, dort geniessen wir im Restaurant Bannholz das Mittagessen. Nach einer weiteren Stunde Fahrt\, kommen wir im Ochsen Bänikon an\, wo wir nochmals einen Halt machen. Insgesamt fahren wir ca. 150 km. \nWir hoffen auf viele schlotterfreudige Teilnehmer! \nBitte unbedingt über die Homepage anmelden.  \nDer Schlotter-Ride findet am Sonntag\, 29. Oktober statt! \n  \nVerantwortung: \nDie Teilnehmer fahren auf eigene Verantwortung und Gefahr und halten sich im Interesse aller an die Strassenverkehrsordnung (StVO). Der Tourguide des Winevalley-Chapters lehnt gegenüber Fahrer/Innen\, Helfer und Drittpersonen jegliche Haftung für Sach- und Personenschäden ab. Jede(r) Fahrer/In ist alleine für seine Versicherung des Fahrzeuges verantwortlich. Durch die Teilnahme an den Ausfahrten und Veranstaltungen verzichtet jede(r) Fahrer/In auf irgendwelche Entschädigungsansprüche (Unfall\, Verletzungen\, usw.). Wir bitten deshalb alle Teilnehmer um volle Rücksicht.
URL:https://winevalley-chapter.ch/anlass/schlotter-ride/
LOCATION:Agrola Tankstelle Weinfelden\, Oberfeldstrasse 1\, Weinfelden\, TG\, 8570\, Schweiz
CATEGORIES:Winevalley Anlass
END:VEVENT
END:VCALENDAR