BEGIN:VCALENDAR
VERSION:2.0
PRODID:-//Winevalley Chapter - ECPv6.9.0//NONSGML v1.0//EN
CALSCALE:GREGORIAN
METHOD:PUBLISH
X-ORIGINAL-URL:https://winevalley-chapter.ch
X-WR-CALDESC:Veranstaltungen für Winevalley Chapter
REFRESH-INTERVAL;VALUE=DURATION:PT1H
X-Robots-Tag:noindex
X-PUBLISHED-TTL:PT1H
BEGIN:VTIMEZONE
TZID:Europe/Paris
BEGIN:DAYLIGHT
TZOFFSETFROM:+0100
TZOFFSETTO:+0200
TZNAME:CEST
DTSTART:20240331T010000
END:DAYLIGHT
BEGIN:STANDARD
TZOFFSETFROM:+0200
TZOFFSETTO:+0100
TZNAME:CET
DTSTART:20241027T010000
END:STANDARD
END:VTIMEZONE
BEGIN:VEVENT
DTSTART;VALUE=DATE:20240505
DTEND;VALUE=DATE:20240506
DTSTAMP:20260423T024232
CREATED:20240208T152832Z
LAST-MODIFIED:20240208T152832Z
UID:2303-1714867200-1714953599@winevalley-chapter.ch
SUMMARY:Love Ride
DESCRIPTION:Liebe Biker \nWeitere Infos folgen.. \nVerantwortung: \nDie Teilnehmer fahren auf eigene Verantwortung und Gefahr und halten sich im Interesse aller an die Strassenverkehrsordnung (StVO). Der Tourguide des Winevalley-Chapters lehnt gegenüber Fahrer/Innen\, Helfer und Drittpersonen jegliche Haftung für Sach- und Personenschäden ab. Jede(r) Fahrer/In ist alleine für seine Versicherung des Fahrzeuges verantwortlich. Durch die Teilnahme an den Ausfahrten und Veranstaltungen verzichtet jede(r) Fahrer/In auf irgendwelche Entschädigungsansprüche (Unfall\, Verletzungen\, usw.). Wir bitten deshalb alle Teilnehmer um volle Rücksicht. \n 
URL:https://winevalley-chapter.ch/anlass/love-ride/
CATEGORIES:Harley-Davidson Veranstaltungen
END:VEVENT
END:VCALENDAR