BEGIN:VCALENDAR
VERSION:2.0
PRODID:-//Winevalley Chapter - ECPv6.9.0//NONSGML v1.0//EN
CALSCALE:GREGORIAN
METHOD:PUBLISH
X-WR-CALNAME:Winevalley Chapter
X-ORIGINAL-URL:https://winevalley-chapter.ch
X-WR-CALDESC:Veranstaltungen für Winevalley Chapter
REFRESH-INTERVAL;VALUE=DURATION:PT1H
X-Robots-Tag:noindex
X-PUBLISHED-TTL:PT1H
BEGIN:VTIMEZONE
TZID:Europe/Paris
BEGIN:DAYLIGHT
TZOFFSETFROM:+0100
TZOFFSETTO:+0200
TZNAME:CEST
DTSTART:20240331T010000
END:DAYLIGHT
BEGIN:STANDARD
TZOFFSETFROM:+0200
TZOFFSETTO:+0100
TZNAME:CET
DTSTART:20241027T010000
END:STANDARD
END:VTIMEZONE
BEGIN:VEVENT
DTSTART;TZID=Europe/Paris:20240530T080000
DTEND;TZID=Europe/Paris:20240602T170000
DTSTAMP:20260423T005618
CREATED:20240208T152954Z
LAST-MODIFIED:20240208T152954Z
UID:2305-1717056000-1717347600@winevalley-chapter.ch
SUMMARY:Magic Bike Rüdesheim
DESCRIPTION:Liebe Biker \nWeitere Infos folgen.. \nVerantwortung: \nDie Teilnehmer fahren auf eigene Verantwortung und Gefahr und halten sich im Interesse aller an die Strassenverkehrsordnung (StVO). Der Tourguide des Winevalley-Chapters lehnt gegenüber Fahrer/Innen\, Helfer und Drittpersonen jegliche Haftung für Sach- und Personenschäden ab. Jede(r) Fahrer/In ist alleine für seine Versicherung des Fahrzeuges verantwortlich. Durch die Teilnahme an den Ausfahrten und Veranstaltungen verzichtet jede(r) Fahrer/In auf irgendwelche Entschädigungsansprüche (Unfall\, Verletzungen\, usw.). Wir bitten deshalb alle Teilnehmer um volle Rücksicht. \n 
URL:https://winevalley-chapter.ch/anlass/magic-bike-ruedesheim-2/
CATEGORIES:Harley-Davidson Veranstaltungen
END:VEVENT
END:VCALENDAR