BEGIN:VCALENDAR
VERSION:2.0
PRODID:-//Winevalley Chapter - ECPv6.9.0//NONSGML v1.0//EN
CALSCALE:GREGORIAN
METHOD:PUBLISH
X-ORIGINAL-URL:https://winevalley-chapter.ch
X-WR-CALDESC:Veranstaltungen für Winevalley Chapter
REFRESH-INTERVAL;VALUE=DURATION:PT1H
X-Robots-Tag:noindex
X-PUBLISHED-TTL:PT1H
BEGIN:VTIMEZONE
TZID:Europe/Paris
BEGIN:DAYLIGHT
TZOFFSETFROM:+0100
TZOFFSETTO:+0200
TZNAME:CEST
DTSTART:20250330T010000
END:DAYLIGHT
BEGIN:STANDARD
TZOFFSETFROM:+0200
TZOFFSETTO:+0100
TZNAME:CET
DTSTART:20251026T010000
END:STANDARD
END:VTIMEZONE
BEGIN:VEVENT
DTSTART;VALUE=DATE:20250902
DTEND;VALUE=DATE:20250908
DTSTAMP:20260421T225529
CREATED:20250128T171747Z
LAST-MODIFIED:20250128T171747Z
UID:2728-1756771200-1757289599@winevalley-chapter.ch
SUMMARY:European Bike Week
DESCRIPTION:https://www.harley-davidson.com/ch/de/content/event-calendar/european-bike-week.html
URL:https://winevalley-chapter.ch/anlass/european-bike-week/
LOCATION:Faakersee\, Faaker See\, Kärnten\, Austria
END:VEVENT
END:VCALENDAR