BEGIN:VCALENDAR
VERSION:2.0
PRODID:-//Winevalley Chapter - ECPv6.9.0//NONSGML v1.0//EN
CALSCALE:GREGORIAN
METHOD:PUBLISH
X-WR-CALNAME:Winevalley Chapter
X-ORIGINAL-URL:https://winevalley-chapter.ch
X-WR-CALDESC:Veranstaltungen für Winevalley Chapter
REFRESH-INTERVAL;VALUE=DURATION:PT1H
X-Robots-Tag:noindex
X-PUBLISHED-TTL:PT1H
BEGIN:VTIMEZONE
TZID:Europe/Paris
BEGIN:DAYLIGHT
TZOFFSETFROM:+0100
TZOFFSETTO:+0200
TZNAME:CEST
DTSTART:20230326T010000
END:DAYLIGHT
BEGIN:STANDARD
TZOFFSETFROM:+0200
TZOFFSETTO:+0100
TZNAME:CET
DTSTART:20231029T010000
END:STANDARD
END:VTIMEZONE
BEGIN:VEVENT
DTSTART;VALUE=DATE:20230629
DTEND;VALUE=DATE:20230703
DTSTAMP:20260423T171526
CREATED:20230531T035703Z
LAST-MODIFIED:20230531T035840Z
UID:595-1688004000-1688263199@winevalley-chapter.ch
SUMMARY:Pullman City Harley Treffen
DESCRIPTION:Infos siehe unter: \nwww.pullmancity.de \n  \nVerantwortung: \nDie Teilnehmer fahren auf eigene Verantwortung und Gefahr und halten sich im Interesse aller an die Strassenverkehrsordnung (StVO). Der Tourguide des Winevalley-Chapters lehnt gegenüber Fahrer/Innen\, Helfer und Drittpersonen jegliche Haftung für Sach- und Personenschäden ab. Jede(r) Fahrer/In ist alleine für seine Versicherung des Fahrzeuges verantwortlich. Durch die Teilnahme an den Ausfahrten und Veranstaltungen verzichtet jede(r) Fahrer/In auf irgendwelche Entschädigungsansprüche (Unfall\, Verletzungen\, usw.). Wir bitten deshalb alle Teilnehmer um volle Rücksicht.
URL:https://winevalley-chapter.ch/anlass/pullman-city-harley-treffen/
LOCATION:Westernstadt Pullman City\, Ruberting 30\, Eging am See\, 94535\, Deutschland
CATEGORIES:Sonstige Veranstaltung
END:VEVENT
BEGIN:VEVENT
DTSTART;VALUE=DATE:20230702
DTEND;VALUE=DATE:20230704
DTSTAMP:20260423T171526
CREATED:20230531T040007Z
LAST-MODIFIED:20230531T040438Z
UID:600-1688263200-1688349599@winevalley-chapter.ch
SUMMARY:30 Jahre Moonstone Chapter
DESCRIPTION:Infos: \n30 Jahre Moonstone Chapter in Rankweil \nSiehe Flyer \n  \nVerantwortung: \nDie Teilnehmer fahren auf eigene Verantwortung und Gefahr und halten sich im Interesse aller an die Strassenverkehrsordnung (StVO). Der Tourguide des Winevalley-Chapters lehnt gegenüber Fahrer/Innen\, Helfer und Drittpersonen jegliche Haftung für Sach- und Personenschäden ab. Jede(r) Fahrer/In ist alleine für seine Versicherung des Fahrzeuges verantwortlich. Durch die Teilnahme an den Ausfahrten und Veranstaltungen verzichtet jede(r) Fahrer/In auf irgendwelche Entschädigungsansprüche (Unfall\, Verletzungen\, usw.). Wir bitten deshalb alle Teilnehmer um volle Rücksicht.
URL:https://winevalley-chapter.ch/anlass/30-jahre-moonstone-chapter/
CATEGORIES:Sonstige Veranstaltung
END:VEVENT
BEGIN:VEVENT
DTSTART;TZID=Europe/Paris:20230707T213000
DTEND;TZID=Europe/Paris:20230708T013000
DTSTAMP:20260423T171526
CREATED:20230531T040643Z
LAST-MODIFIED:20230707T150058Z
UID:608-1688765400-1688779800@winevalley-chapter.ch
SUMMARY:Chapter Höck Juli
DESCRIPTION:Verantwortung: \nDie Teilnehmer fahren auf eigene Verantwortung und Gefahr und halten sich im Interesse aller an die Strassenverkehrsordnung (StVO). Der Tourguide des Winevalley-Chapters lehnt gegenüber Fahrer/Innen\, Helfer und Drittpersonen jegliche Haftung für Sach- und Personenschäden ab. Jede(r) Fahrer/In ist alleine für seine Versicherung des Fahrzeuges verantwortlich. Durch die Teilnahme an den Ausfahrten und Veranstaltungen verzichtet jede(r) Fahrer/In auf irgendwelche Entschädigungsansprüche (Unfall\, Verletzungen\, usw.). Wir bitten deshalb alle Teilnehmer um volle Rücksicht.
URL:https://winevalley-chapter.ch/anlass/chapter-hoeck-juli/
LOCATION:Stelzenhof\, Stelzenhofstrasse 11\, Weinfelden\, TG\, 8570\, Schweiz
CATEGORIES:Winevalley Anlass
END:VEVENT
BEGIN:VEVENT
DTSTART;VALUE=DATE:20230709
DTEND;VALUE=DATE:20230711
DTSTAMP:20260423T171526
CREATED:20230531T040911Z
LAST-MODIFIED:20230531T040932Z
UID:611-1688868000-1688954399@winevalley-chapter.ch
SUMMARY:30 Jahre Moonstone Chapter (Ersatzdatum)
DESCRIPTION:Infos: \n30 Jahre Moonstone Chapter in Rankweil \nSiehe Flyer \n  \nVerantwortung: \nDie Teilnehmer fahren auf eigene Verantwortung und Gefahr und halten sich im Interesse aller an die Strassenverkehrsordnung (StVO). Der Tourguide des Winevalley-Chapters lehnt gegenüber Fahrer/Innen\, Helfer und Drittpersonen jegliche Haftung für Sach- und Personenschäden ab. Jede(r) Fahrer/In ist alleine für seine Versicherung des Fahrzeuges verantwortlich. Durch die Teilnahme an den Ausfahrten und Veranstaltungen verzichtet jede(r) Fahrer/In auf irgendwelche Entschädigungsansprüche (Unfall\, Verletzungen\, usw.). Wir bitten deshalb alle Teilnehmer um volle Rücksicht.
URL:https://winevalley-chapter.ch/anlass/30-jahre-moonstone-chapter-ersatzdatum/
CATEGORIES:Sonstige Veranstaltung
END:VEVENT
BEGIN:VEVENT
DTSTART;VALUE=DATE:20230711
DTEND;VALUE=DATE:20230718
DTSTAMP:20260423T171526
CREATED:20230531T041156Z
LAST-MODIFIED:20230531T041156Z
UID:615-1689040800-1689559199@winevalley-chapter.ch
SUMMARY:25. Kitz on Wheels
DESCRIPTION:Infos siehe unter:  \nwww.kitzonwheels.at \n  \nVerantwortung: \nDie Teilnehmer fahren auf eigene Verantwortung und Gefahr und halten sich im Interesse aller an die Strassenverkehrsordnung (StVO). Der Tourguide des Winevalley-Chapters lehnt gegenüber Fahrer/Innen\, Helfer und Drittpersonen jegliche Haftung für Sach- und Personenschäden ab. Jede(r) Fahrer/In ist alleine für seine Versicherung des Fahrzeuges verantwortlich. Durch die Teilnahme an den Ausfahrten und Veranstaltungen verzichtet jede(r) Fahrer/In auf irgendwelche Entschädigungsansprüche (Unfall\, Verletzungen\, usw.). Wir bitten deshalb alle Teilnehmer um volle Rücksicht.
URL:https://winevalley-chapter.ch/anlass/25-kitz-on-wheels/
CATEGORIES:Sonstige Veranstaltung
END:VEVENT
BEGIN:VEVENT
DTSTART;VALUE=DATE:20230713
DTEND;VALUE=DATE:20230718
DTSTAMP:20260423T171526
CREATED:20230531T041435Z
LAST-MODIFIED:20230531T041905Z
UID:620-1689213600-1689559199@winevalley-chapter.ch
SUMMARY:Harley Treffen Grossarl - Hotel Edelweiss
DESCRIPTION:Infos siehe unter: \nwww.edelweiss-grossarl.com \nOrt – Grossarl – Salzburg \nVerantwortung: \nDie Teilnehmer fahren auf eigene Verantwortung und Gefahr und halten sich im Interesse aller an die Strassenverkehrsordnung (StVO). Der Tourguide des Winevalley-Chapters lehnt gegenüber Fahrer/Innen\, Helfer und Drittpersonen jegliche Haftung für Sach- und Personenschäden ab. Jede(r) Fahrer/In ist alleine für seine Versicherung des Fahrzeuges verantwortlich. Durch die Teilnahme an den Ausfahrten und Veranstaltungen verzichtet jede(r) Fahrer/In auf irgendwelche Entschädigungsansprüche (Unfall\, Verletzungen\, usw.). Wir bitten deshalb alle Teilnehmer um volle Rücksicht.
URL:https://winevalley-chapter.ch/anlass/harley-treffen-grossarl-hotel-edelweiss/
CATEGORIES:Sonstige Veranstaltung
END:VEVENT
BEGIN:VEVENT
DTSTART;VALUE=DATE:20230714
DTEND;VALUE=DATE:20230718
DTSTAMP:20260423T171526
CREATED:20230531T042703Z
LAST-MODIFIED:20230531T042746Z
UID:623-1689300000-1689559199@winevalley-chapter.ch
SUMMARY:Biker Days Basel
DESCRIPTION:Infos siehe unter \nwww.bikerdaysbasel.ch \n  \nVerantwortung: \nDie Teilnehmer fahren auf eigene Verantwortung und Gefahr und halten sich im Interesse aller an die Strassenverkehrsordnung (StVO). Der Tourguide des Winevalley-Chapters lehnt gegenüber Fahrer/Innen\, Helfer und Drittpersonen jegliche Haftung für Sach- und Personenschäden ab. Jede(r) Fahrer/In ist alleine für seine Versicherung des Fahrzeuges verantwortlich. Durch die Teilnahme an den Ausfahrten und Veranstaltungen verzichtet jede(r) Fahrer/In auf irgendwelche Entschädigungsansprüche (Unfall\, Verletzungen\, usw.). Wir bitten deshalb alle Teilnehmer um volle Rücksicht.
URL:https://winevalley-chapter.ch/anlass/biker-days-basel/
LOCATION:Biker Days Basel\, St. Jakob\, Basel\, 4052\, Schweiz
CATEGORIES:Sonstige Veranstaltung
END:VEVENT
BEGIN:VEVENT
DTSTART;TZID=Europe/Paris:20230721T200000
DTEND;TZID=Europe/Paris:20230722T015900
DTSTAMP:20260423T171526
CREATED:20230531T042947Z
LAST-MODIFIED:20230720T060813Z
UID:629-1689969600-1689991140@winevalley-chapter.ch
SUMMARY:Summernight Ride mit Road Queens als Special Guests
DESCRIPTION:Liebe Biker \nWir freuen uns auf den Summernight Ride von den Road Queens! Alle sind herzlich eingeladen mitzufahren. Wir werden eine gemütliche Ausfahrt machen\, mit anschliessendem Nachtessen im Restaurant Kreuzstrasse in Zuben. Das Nachtessen findet witterungsunabhängig statt\, die Ausfahrt wird nur bei schönem Wetter durchgeführt. \nTreffpunkt: 18.00 Uhr Agrola Weinfelden \n  \nVerantwortung: \nDie Teilnehmer fahren auf eigene Verantwortung und Gefahr und halten sich im Interesse aller an die Strassenverkehrsordnung (StVO). Der Tourguide des Winevalley-Chapters lehnt gegenüber Fahrer/Innen\, Helfer und Drittpersonen jegliche Haftung für Sach- und Personenschäden ab. Jede(r) Fahrer/In ist alleine für seine Versicherung des Fahrzeuges verantwortlich. Durch die Teilnahme an den Ausfahrten und Veranstaltungen verzichtet jede(r) Fahrer/In auf irgendwelche Entschädigungsansprüche (Unfall\, Verletzungen\, usw.). Wir bitten deshalb alle Teilnehmer um volle Rücksicht.
URL:https://winevalley-chapter.ch/anlass/summernight-ride-mit-road-queens-als-special-guests/
CATEGORIES:Winevalley Anlass
END:VEVENT
BEGIN:VEVENT
DTSTART;VALUE=DATE:20230722
DTEND;VALUE=DATE:20230725
DTSTAMP:20260423T171526
CREATED:20230531T043326Z
LAST-MODIFIED:20230531T053223Z
UID:632-1689991200-1690163999@winevalley-chapter.ch
SUMMARY:Rhein Neckar Chapter - Sommerfest 30jähriges Jubiläum
DESCRIPTION:Infos: \nHallo Kollegen und Chapter-Member in der HOG®\, \nWir möchten euch zu unserer diesjährigen Jubiläumsfeier am 22.07.2023 nach Speyer einladen. \nWir feiern 30 Jahre Rhein Neckar Chapter! \nWir freuen uns über jeden der bei uns vorbeischaut bei Pfälzer Küche\, Getränken und Live Band. \nDetails zu der Veranstaltung findet ihr in den Anhängen 1\, 2 und 3.\nBei Rückfragen sprecht uns bitte jederzeit an. \nEric -Francis Thull\nH.O.G.® Rhein Neckar Chapter\nRegistriert bei der Harley Owners Group® unter der Chapter-ID 9176 \n  \nVerantwortung: \nDie Teilnehmer fahren auf eigene Verantwortung und Gefahr und halten sich im Interesse aller an die Strassenverkehrsordnung (StVO). Der Tourguide des Winevalley-Chapters lehnt gegenüber Fahrer/Innen\, Helfer und Drittpersonen jegliche Haftung für Sach- und Personenschäden ab. Jede(r) Fahrer/In ist alleine für seine Versicherung des Fahrzeuges verantwortlich. Durch die Teilnahme an den Ausfahrten und Veranstaltungen verzichtet jede(r) Fahrer/In auf irgendwelche Entschädigungsansprüche (Unfall\, Verletzungen\, usw.). Wir bitten deshalb alle Teilnehmer um volle Rücksicht.
URL:https://winevalley-chapter.ch/anlass/rhein-neckar-chapter-sommerfest-30jaehriges-jubilaeum/
CATEGORIES:Sonstige Veranstaltung
END:VEVENT
END:VCALENDAR