BEGIN:VCALENDAR
VERSION:2.0
PRODID:-//Winevalley Chapter - ECPv6.9.0//NONSGML v1.0//EN
CALSCALE:GREGORIAN
METHOD:PUBLISH
X-ORIGINAL-URL:https://winevalley-chapter.ch
X-WR-CALDESC:Veranstaltungen für Winevalley Chapter
REFRESH-INTERVAL;VALUE=DURATION:PT1H
X-Robots-Tag:noindex
X-PUBLISHED-TTL:PT1H
BEGIN:VTIMEZONE
TZID:Europe/Paris
BEGIN:DAYLIGHT
TZOFFSETFROM:+0100
TZOFFSETTO:+0200
TZNAME:CEST
DTSTART:20230326T010000
END:DAYLIGHT
BEGIN:STANDARD
TZOFFSETFROM:+0200
TZOFFSETTO:+0100
TZNAME:CET
DTSTART:20231029T010000
END:STANDARD
END:VTIMEZONE
BEGIN:VEVENT
DTSTART;VALUE=DATE:20230801
DTEND;VALUE=DATE:20230803
DTSTAMP:20260423T155025
CREATED:20230720T061832Z
LAST-MODIFIED:20230726T055451Z
UID:1716-1690855200-1690941599@winevalley-chapter.ch
SUMMARY:1. August Ride mit dem Moonstone Chapter
DESCRIPTION:Liebe Bikerinnen und Biker\nWir sind vom Moonstone Chapter zum 1. August Ride eingeladen!\nTreffpunkt: 8.30 Uhr Restaurant Hecht Rheineck\, Abfahrt 9.00 Uhr\nRoute: Schwammhöhe – Klöntalersee – Pragelpass – Ibergeregg – Sattelegg\nMittagessen: 11.30 Uhr Restaurant Schwammhöhe hoch über dem Klöntalersee\nZvierihalt: 15.30 Uhr Restaurant Sattelegg\nWeiterfahrt: Uznach – Wattwil – Schwägalp (Ankunft 17.45 Uhr)\nAnmeldung: Bitte bei Claudia melden\, sie wird es weiterleiten.\nEvent Flyer herunterladen (hier klicken)
URL:https://winevalley-chapter.ch/anlass/1-august-ride-mit-dem-moonstone-chapter-2/
CATEGORIES:Sonstige Veranstaltung
END:VEVENT
BEGIN:VEVENT
DTSTART;VALUE=DATE:20230804
DTEND;VALUE=DATE:20230808
DTSTAMP:20260423T155025
CREATED:20230531T043519Z
LAST-MODIFIED:20230531T050441Z
UID:638-1691114400-1691373599@winevalley-chapter.ch
SUMMARY:Beo Bike
DESCRIPTION:Infos siehe unter: \nwww.beo-bikeweek.ch \n  \nVerantwortung: \nDie Teilnehmer fahren auf eigene Verantwortung und Gefahr und halten sich im Interesse aller an die Strassenverkehrsordnung (StVO). Der Tourguide des Winevalley-Chapters lehnt gegenüber Fahrer/Innen\, Helfer und Drittpersonen jegliche Haftung für Sach- und Personenschäden ab. Jede(r) Fahrer/In ist alleine für seine Versicherung des Fahrzeuges verantwortlich. Durch die Teilnahme an den Ausfahrten und Veranstaltungen verzichtet jede(r) Fahrer/In auf irgendwelche Entschädigungsansprüche (Unfall\, Verletzungen\, usw.). Wir bitten deshalb alle Teilnehmer um volle Rücksicht.
URL:https://winevalley-chapter.ch/anlass/beo-bike/
CATEGORIES:Sonstige Veranstaltung
END:VEVENT
BEGIN:VEVENT
DTSTART;TZID=Europe/Paris:20230804T213000
DTEND;TZID=Europe/Paris:20230805T013000
DTSTAMP:20260423T155025
CREATED:20230531T050620Z
LAST-MODIFIED:20230531T050620Z
UID:641-1691184600-1691199000@winevalley-chapter.ch
SUMMARY:Chapter Höck August
DESCRIPTION:Verantwortung: \nDie Teilnehmer fahren auf eigene Verantwortung und Gefahr und halten sich im Interesse aller an die Strassenverkehrsordnung (StVO). Der Tourguide des Winevalley-Chapters lehnt gegenüber Fahrer/Innen\, Helfer und Drittpersonen jegliche Haftung für Sach- und Personenschäden ab. Jede(r) Fahrer/In ist alleine für seine Versicherung des Fahrzeuges verantwortlich. Durch die Teilnahme an den Ausfahrten und Veranstaltungen verzichtet jede(r) Fahrer/In auf irgendwelche Entschädigungsansprüche (Unfall\, Verletzungen\, usw.). Wir bitten deshalb alle Teilnehmer um volle Rücksicht.
URL:https://winevalley-chapter.ch/anlass/chapter-hoeck-august/
LOCATION:Stelzenhof\, Stelzenhofstrasse 11\, Weinfelden\, TG\, 8570\, Schweiz
CATEGORIES:Winevalley Anlass
END:VEVENT
BEGIN:VEVENT
DTSTART;VALUE=DATE:20230812
DTEND;VALUE=DATE:20230815
DTSTAMP:20260423T155025
CREATED:20230531T050821Z
LAST-MODIFIED:20230531T053117Z
UID:644-1691805600-1691978399@winevalley-chapter.ch
SUMMARY:20-jähriges Jubiläum Basel Chapter
DESCRIPTION:Infos: \nFlyer \nLiebe Biker und Bikerinnen \n20th Jubifeier vom Basel Chapter – wer kommt mit? \nSobald wir wissen wer kommt\, können wir die Anfahrt und Hotel organisieren.\nACHTUNG! Man muss sich dann noch selber anmelden (ich schicke später nochmals die Einladung mit Link). \nBitte bis spätestens 30.04.2023 im Xoyondo eintragen: \nhttps://xoyondo.com/dp/JCUViUjK7m2IiwC \nWir freuen uns auf viele Teilnehmer. \nHerzliche Grüsse\nWinevalley Chapter \nClaudia Röthlisberger \nActivities Officer/Secretary \n  \nHallo zusammen  \nDas BASEL CHAPTER SWITZERLAND feiert im 2023 sein 20-Jähriges Jubiläum.\nEs würde uns sehr freuen\, Euch alle in Basel am 12.08.2023 willkommen zu heissen. Es sind alle Chapters mit ihren Members willkommen.\nAlle weiteren Details teilen wir dann im Frühling 2023 mit.    \nWünsche Euch allen einen schönen Indian Summer und noch einige sonnige KM’s auf Euren Bikes.  \nChristian Becker \nDirector Basel Chapter \n  \nVerantwortung: \nDie Teilnehmer fahren auf eigene Verantwortung und Gefahr und halten sich im Interesse aller an die Strassenverkehrsordnung (StVO). Der Tourguide des Winevalley-Chapters lehnt gegenüber Fahrer/Innen\, Helfer und Drittpersonen jegliche Haftung für Sach- und Personenschäden ab. Jede(r) Fahrer/In ist alleine für seine Versicherung des Fahrzeuges verantwortlich. Durch die Teilnahme an den Ausfahrten und Veranstaltungen verzichtet jede(r) Fahrer/In auf irgendwelche Entschädigungsansprüche (Unfall\, Verletzungen\, usw.). Wir bitten deshalb alle Teilnehmer um volle Rücksicht.
URL:https://winevalley-chapter.ch/anlass/20-jaehriges-jubilaeum-basel-chapter/
CATEGORIES:Sonstige Veranstaltung
END:VEVENT
BEGIN:VEVENT
DTSTART;VALUE=DATE:20230816
DTEND;VALUE=DATE:20230818
DTSTAMP:20260423T155025
CREATED:20230531T050950Z
LAST-MODIFIED:20230815T095843Z
UID:647-1692151200-1692237599@winevalley-chapter.ch
SUMMARY:Rentner Ride mit Henry
DESCRIPTION:Liebe Biker und Bikerinnen \nDie Tour führt uns durch das Zürcher Oberland und via Zürcher Unterland nach Warth-Weiningen wo die Ausfahrt endet. \nWir haben genügend Zeit für gemütliche Pausen und ein gemeinsames Mittagessen. \nTreffpunkt: 08:30 Uhr Agrola Shop\, St. Gallerstrasse 48\, 9548 Matzingen\, Abfahrt 08:45 Uhr \nEs ist keine Anmeldung notwendig. \nDer Rentner Ride findet statt☀️! \nVerantwortung: \nDie Teilnehmer fahren auf eigene Verantwortung und Gefahr und halten sich im Interesse aller an die Strassenverkehrsordnung (StVO). Der Tourguide des Winevalley-Chapters lehnt gegenüber Fahrer/Innen\, Helfer und Drittpersonen jegliche Haftung für Sach- und Personenschäden ab. Jede(r) Fahrer/In ist alleine für seine Versicherung des Fahrzeuges verantwortlich. Durch die Teilnahme an den Ausfahrten und Veranstaltungen verzichtet jede(r) Fahrer/In auf irgendwelche Entschädigungsansprüche (Unfall\, Verletzungen\, usw.). Wir bitten deshalb alle Teilnehmer um volle Rücksicht.
URL:https://winevalley-chapter.ch/anlass/rentner-ride-mit-henry/
LOCATION:Agrola Tankstelle Matzingen\, St. Gallerstrasse 48\, Matzingen\, 9548
CATEGORIES:Winevalley Anlass
END:VEVENT
BEGIN:VEVENT
DTSTART;VALUE=DATE:20230826
DTEND;VALUE=DATE:20230829
DTSTAMP:20260423T155025
CREATED:20230531T051118Z
LAST-MODIFIED:20230816T123237Z
UID:650-1693015200-1693187999@winevalley-chapter.ch
SUMMARY:Winevalley Chapter Weekend
DESCRIPTION:Liebe Bikerinnen und Biker \nHans hat für dieses Wochenende eine schöne Tour nach St. Anton geplant – lasst euch überraschen! \nTreffpunkt: 09:00 Uhr BP Tankstelle Amriswil\, Abfahrt 09:30 Uhr \nWir freuen uns auf dieses Wochenende! \nVerantwortung: \nDie Teilnehmer fahren auf eigene Verantwortung und Gefahr und halten sich im Interesse aller an die Strassenverkehrsordnung (StVO). Der Tourguide des Winevalley-Chapters lehnt gegenüber Fahrer/Innen\, Helfer und Drittpersonen jegliche Haftung für Sach- und Personenschäden ab. Jede(r) Fahrer/In ist alleine für seine Versicherung des Fahrzeuges verantwortlich. Durch die Teilnahme an den Ausfahrten und Veranstaltungen verzichtet jede(r) Fahrer/In auf irgendwelche Entschädigungsansprüche (Unfall\, Verletzungen\, usw.). Wir bitten deshalb alle Teilnehmer um volle Rücksicht.
URL:https://winevalley-chapter.ch/anlass/winevalley-chapter-weekend/
CATEGORIES:Winevalley Anlass
END:VEVENT
END:VCALENDAR