BEGIN:VCALENDAR
VERSION:2.0
PRODID:-//Winevalley Chapter - ECPv6.9.0//NONSGML v1.0//EN
CALSCALE:GREGORIAN
METHOD:PUBLISH
X-WR-CALNAME:Winevalley Chapter
X-ORIGINAL-URL:https://winevalley-chapter.ch
X-WR-CALDESC:Veranstaltungen für Winevalley Chapter
REFRESH-INTERVAL;VALUE=DURATION:PT1H
X-Robots-Tag:noindex
X-PUBLISHED-TTL:PT1H
BEGIN:VTIMEZONE
TZID:Europe/Paris
BEGIN:DAYLIGHT
TZOFFSETFROM:+0100
TZOFFSETTO:+0200
TZNAME:CEST
DTSTART:20230326T010000
END:DAYLIGHT
BEGIN:STANDARD
TZOFFSETFROM:+0200
TZOFFSETTO:+0100
TZNAME:CET
DTSTART:20231029T010000
END:STANDARD
END:VTIMEZONE
BEGIN:VEVENT
DTSTART;TZID=Europe/Paris:20231103T203000
DTEND;TZID=Europe/Paris:20231104T003000
DTSTAMP:20260423T102605
CREATED:20230531T052402Z
LAST-MODIFIED:20230531T052402Z
UID:676-1699043400-1699057800@winevalley-chapter.ch
SUMMARY:Chapter Höck November
DESCRIPTION:Verantwortung: \nDie Teilnehmer fahren auf eigene Verantwortung und Gefahr und halten sich im Interesse aller an die Strassenverkehrsordnung (StVO). Der Tourguide des Winevalley-Chapters lehnt gegenüber Fahrer/Innen\, Helfer und Drittpersonen jegliche Haftung für Sach- und Personenschäden ab. Jede(r) Fahrer/In ist alleine für seine Versicherung des Fahrzeuges verantwortlich. Durch die Teilnahme an den Ausfahrten und Veranstaltungen verzichtet jede(r) Fahrer/In auf irgendwelche Entschädigungsansprüche (Unfall\, Verletzungen\, usw.). Wir bitten deshalb alle Teilnehmer um volle Rücksicht.
URL:https://winevalley-chapter.ch/anlass/chapter-hoeck-november/
LOCATION:Stelzenhof\, Stelzenhofstrasse 11\, Weinfelden\, TG\, 8570\, Schweiz
CATEGORIES:Winevalley Anlass
END:VEVENT
END:VCALENDAR