BEGIN:VCALENDAR
VERSION:2.0
PRODID:-//Winevalley Chapter - ECPv6.9.0//NONSGML v1.0//EN
CALSCALE:GREGORIAN
METHOD:PUBLISH
X-WR-CALNAME:Winevalley Chapter
X-ORIGINAL-URL:https://winevalley-chapter.ch
X-WR-CALDESC:Veranstaltungen für Winevalley Chapter
REFRESH-INTERVAL;VALUE=DURATION:PT1H
X-Robots-Tag:noindex
X-PUBLISHED-TTL:PT1H
BEGIN:VTIMEZONE
TZID:Europe/Paris
BEGIN:DAYLIGHT
TZOFFSETFROM:+0100
TZOFFSETTO:+0200
TZNAME:CEST
DTSTART:20240331T010000
END:DAYLIGHT
BEGIN:STANDARD
TZOFFSETFROM:+0200
TZOFFSETTO:+0100
TZNAME:CET
DTSTART:20241027T010000
END:STANDARD
END:VTIMEZONE
BEGIN:VEVENT
DTSTART;TZID=Europe/Paris:20240301T193000
DTEND;TZID=Europe/Paris:20240301T233000
DTSTAMP:20260423T041242
CREATED:20231220T135300Z
LAST-MODIFIED:20240116T072949Z
UID:2181-1709321400-1709335800@winevalley-chapter.ch
SUMMARY:Chapter Höck März
DESCRIPTION:Verantwortung: \nDie Teilnehmer fahren auf eigene Verantwortung und Gefahr und halten sich im Interesse aller an die Strassenverkehrsordnung (StVO). Der Tourguide des Winevalley-Chapters lehnt gegenüber Fahrer/Innen\, Helfer und Drittpersonen jegliche Haftung für Sach- und Personenschäden ab. Jede(r) Fahrer/In ist alleine für seine Versicherung des Fahrzeuges verantwortlich. Durch die Teilnahme an den Ausfahrten und Veranstaltungen verzichtet jede(r) Fahrer/In auf irgendwelche Entschädigungsansprüche (Unfall\, Verletzungen\, usw.). Wir bitten deshalb alle Teilnehmer um volle Rücksicht.
URL:https://winevalley-chapter.ch/anlass/chapter-hoeck-maerz/
LOCATION:Stelzenhof\, Stelzenhofstrasse 11\, Weinfelden\, TG\, 8570\, Schweiz
CATEGORIES:Winevalley Anlass
END:VEVENT
BEGIN:VEVENT
DTSTART;TZID=Europe/Paris:20240322T183000
DTEND;TZID=Europe/Paris:20240322T233000
DTSTAMP:20260423T041242
CREATED:20240115T092112Z
LAST-MODIFIED:20240116T072929Z
UID:2240-1711132200-1711150200@winevalley-chapter.ch
SUMMARY:Hauptversammlung Winevalley Chapter
DESCRIPTION:Lieber Members \nAm 22. März 2024 findet unsere Hauptversammlung statt. \nWann: 18:30 Uhr Essen\, anschliessend findet die HV statt \nWo: Stelzenhof Weinfelden \nBitte auf der Homepage anmelden! \nWir freuen uns auf viele Mitglieder!
URL:https://winevalley-chapter.ch/anlass/hauptversammlung-winevalley-chapter/
LOCATION:Stelzenhof\, Stelzenhofstrasse 11\, Weinfelden\, TG\, 8570\, Schweiz
CATEGORIES:Winevalley Anlass
END:VEVENT
END:VCALENDAR