BEGIN:VCALENDAR
VERSION:2.0
PRODID:-//Winevalley Chapter - ECPv6.9.0//NONSGML v1.0//EN
CALSCALE:GREGORIAN
METHOD:PUBLISH
X-ORIGINAL-URL:https://winevalley-chapter.ch
X-WR-CALDESC:Veranstaltungen für Winevalley Chapter
REFRESH-INTERVAL;VALUE=DURATION:PT1H
X-Robots-Tag:noindex
X-PUBLISHED-TTL:PT1H
BEGIN:VTIMEZONE
TZID:Europe/Paris
BEGIN:DAYLIGHT
TZOFFSETFROM:+0100
TZOFFSETTO:+0200
TZNAME:CEST
DTSTART:20240331T010000
END:DAYLIGHT
BEGIN:STANDARD
TZOFFSETFROM:+0200
TZOFFSETTO:+0100
TZNAME:CET
DTSTART:20241027T010000
END:STANDARD
END:VTIMEZONE
BEGIN:VEVENT
DTSTART;TZID=Europe/Paris:20240530T080000
DTEND;TZID=Europe/Paris:20240602T170000
DTSTAMP:20260422T231940
CREATED:20240208T152954Z
LAST-MODIFIED:20240208T152954Z
UID:2305-1717056000-1717347600@winevalley-chapter.ch
SUMMARY:Magic Bike Rüdesheim
DESCRIPTION:Liebe Biker \nWeitere Infos folgen.. \nVerantwortung: \nDie Teilnehmer fahren auf eigene Verantwortung und Gefahr und halten sich im Interesse aller an die Strassenverkehrsordnung (StVO). Der Tourguide des Winevalley-Chapters lehnt gegenüber Fahrer/Innen\, Helfer und Drittpersonen jegliche Haftung für Sach- und Personenschäden ab. Jede(r) Fahrer/In ist alleine für seine Versicherung des Fahrzeuges verantwortlich. Durch die Teilnahme an den Ausfahrten und Veranstaltungen verzichtet jede(r) Fahrer/In auf irgendwelche Entschädigungsansprüche (Unfall\, Verletzungen\, usw.). Wir bitten deshalb alle Teilnehmer um volle Rücksicht. \n 
URL:https://winevalley-chapter.ch/anlass/magic-bike-ruedesheim-2/
CATEGORIES:Harley-Davidson Veranstaltungen
END:VEVENT
BEGIN:VEVENT
DTSTART;TZID=Europe/Paris:20240606T080000
DTEND;TZID=Europe/Paris:20240609T170000
DTSTAMP:20260422T231940
CREATED:20240208T153229Z
LAST-MODIFIED:20240208T154950Z
UID:2309-1717660800-1717952400@winevalley-chapter.ch
SUMMARY:European H.O.G. Rally Senigallio Italien
DESCRIPTION:Liebe Biker \nWeitere Infos folgen… \nVerantwortung: \nDie Teilnehmer fahren auf eigene Verantwortung und Gefahr und halten sich im Interesse aller an die Strassenverkehrsordnung (StVO). Der Tourguide des Winevalley-Chapters lehnt gegenüber Fahrer/Innen\, Helfer und Drittpersonen jegliche Haftung für Sach- und Personenschäden ab. Jede(r) Fahrer/In ist alleine für seine Versicherung des Fahrzeuges verantwortlich. Durch die Teilnahme an den Ausfahrten und Veranstaltungen verzichtet jede(r) Fahrer/In auf irgendwelche Entschädigungsansprüche (Unfall\, Verletzungen\, usw.). Wir bitten deshalb alle Teilnehmer um volle Rücksicht. \n 
URL:https://winevalley-chapter.ch/anlass/european-h-o-g-rally-senigallio-italien/
CATEGORIES:Harley-Davidson Veranstaltungen
END:VEVENT
BEGIN:VEVENT
DTSTART;TZID=Europe/Paris:20240607T183000
DTEND;TZID=Europe/Paris:20240607T233000
DTSTAMP:20260422T231940
CREATED:20231220T135606Z
LAST-MODIFIED:20240530T133045Z
UID:2187-1717785000-1717803000@winevalley-chapter.ch
SUMMARY:Chapter Höck Juni
DESCRIPTION:Verantwortung: \nDie Teilnehmer fahren auf eigene Verantwortung und Gefahr und halten sich im Interesse aller an die Strassenverkehrsordnung (StVO). Der Tourguide des Winevalley-Chapters lehnt gegenüber Fahrer/Innen\, Helfer und Drittpersonen jegliche Haftung für Sach- und Personenschäden ab. Jede(r) Fahrer/In ist alleine für seine Versicherung des Fahrzeuges verantwortlich. Durch die Teilnahme an den Ausfahrten und Veranstaltungen verzichtet jede(r) Fahrer/In auf irgendwelche Entschädigungsansprüche (Unfall\, Verletzungen\, usw.). Wir bitten deshalb alle Teilnehmer um volle Rücksicht.
URL:https://winevalley-chapter.ch/anlass/chapter-hoeck-juni/
LOCATION:Stelzenhof\, Stelzenhofstrasse 11\, Weinfelden\, TG\, 8570\, Schweiz
CATEGORIES:Winevalley Anlass
END:VEVENT
BEGIN:VEVENT
DTSTART;VALUE=DATE:20240608
DTEND;VALUE=DATE:20240609
DTSTAMP:20260422T231940
CREATED:20240208T153056Z
LAST-MODIFIED:20240208T154922Z
UID:2307-1717804800-1717891199@winevalley-chapter.ch
SUMMARY:L.O.H. Interchapter Densbüren
DESCRIPTION:Liebe Biker und Bikerinnen \nWeitere Infos folgen… \nVerantwortung: \nDie Teilnehmer fahren auf eigene Verantwortung und Gefahr und halten sich im Interesse aller an die Strassenverkehrsordnung (StVO). Der Tourguide des Winevalley-Chapters lehnt gegenüber Fahrer/Innen\, Helfer und Drittpersonen jegliche Haftung für Sach- und Personenschäden ab. Jede(r) Fahrer/In ist alleine für seine Versicherung des Fahrzeuges verantwortlich. Durch die Teilnahme an den Ausfahrten und Veranstaltungen verzichtet jede(r) Fahrer/In auf irgendwelche Entschädigungsansprüche (Unfall\, Verletzungen\, usw.). Wir bitten deshalb alle Teilnehmer um volle Rücksicht. \n 
URL:https://winevalley-chapter.ch/anlass/l-o-h-interchapter-densbueren/
CATEGORIES:Harley-Davidson Veranstaltungen
END:VEVENT
BEGIN:VEVENT
DTSTART;TZID=Europe/Paris:20240614T080000
DTEND;TZID=Europe/Paris:20240616T170000
DTSTAMP:20260422T231940
CREATED:20240208T153609Z
LAST-MODIFIED:20240208T153609Z
UID:2311-1718352000-1718557200@winevalley-chapter.ch
SUMMARY:Appenzölle Biker-Tröffe
DESCRIPTION:Liebe Biker \nWir fahren gemeinsam zum Biker-Tröffe\, geniessen das Zusammensein und die Ausfahrt! \nVerantwortung: \nDie Teilnehmer fahren auf eigene Verantwortung und Gefahr und halten sich im Interesse aller an die Strassenverkehrsordnung (StVO). Der Tourguide des Winevalley-Chapters lehnt gegenüber Fahrer/Innen\, Helfer und Drittpersonen jegliche Haftung für Sach- und Personenschäden ab. Jede(r) Fahrer/In ist alleine für seine Versicherung des Fahrzeuges verantwortlich. Durch die Teilnahme an den Ausfahrten und Veranstaltungen verzichtet jede(r) Fahrer/In auf irgendwelche Entschädigungsansprüche (Unfall\, Verletzungen\, usw.). Wir bitten deshalb alle Teilnehmer um volle Rücksicht. \n 
URL:https://winevalley-chapter.ch/anlass/appenzoelle-biker-troeffe/
CATEGORIES:Harley-Davidson Veranstaltungen
END:VEVENT
BEGIN:VEVENT
DTSTART;TZID=Europe/Paris:20240621T170000
DTEND;TZID=Europe/Paris:20240621T223000
DTSTAMP:20260422T231940
CREATED:20240530T131711Z
LAST-MODIFIED:20240530T131711Z
UID:2391-1718989200-1719009000@winevalley-chapter.ch
SUMMARY:Ausfahrt mit Bodenseerundfahrt
DESCRIPTION:Ausfahrt im Privatschiff mit kaltem Plättli ca CHF 55 mit Kapitän Iris und Road Captain Susanne.
URL:https://winevalley-chapter.ch/anlass/ausfahrt-mit-bodenseerundfahrt/
END:VEVENT
BEGIN:VEVENT
DTSTART;TZID=Europe/Paris:20240622T080000
DTEND;TZID=Europe/Paris:20240623T170000
DTSTAMP:20260422T231941
CREATED:20240208T153722Z
LAST-MODIFIED:20240208T153722Z
UID:2313-1719043200-1719162000@winevalley-chapter.ch
SUMMARY:Swiss 500 Miles
DESCRIPTION:Liebe Biker \nWeitere Infos folgen… \nVerantwortung: \nDie Teilnehmer fahren auf eigene Verantwortung und Gefahr und halten sich im Interesse aller an die Strassenverkehrsordnung (StVO). Der Tourguide des Winevalley-Chapters lehnt gegenüber Fahrer/Innen\, Helfer und Drittpersonen jegliche Haftung für Sach- und Personenschäden ab. Jede(r) Fahrer/In ist alleine für seine Versicherung des Fahrzeuges verantwortlich. Durch die Teilnahme an den Ausfahrten und Veranstaltungen verzichtet jede(r) Fahrer/In auf irgendwelche Entschädigungsansprüche (Unfall\, Verletzungen\, usw.). Wir bitten deshalb alle Teilnehmer um volle Rücksicht. \n 
URL:https://winevalley-chapter.ch/anlass/swiss-500-miles/
CATEGORIES:Harley-Davidson Veranstaltungen
END:VEVENT
BEGIN:VEVENT
DTSTART;TZID=Europe/Paris:20240628T080000
DTEND;TZID=Europe/Paris:20240630T170000
DTSTAMP:20260422T231941
CREATED:20240208T153856Z
LAST-MODIFIED:20240208T154831Z
UID:2315-1719561600-1719766800@winevalley-chapter.ch
SUMMARY:Hamburg Harley Days
DESCRIPTION:Liebe Biker und Bikerinnen \nWeitere Infos folgen… \nVerantwortung: \nDie Teilnehmer fahren auf eigene Verantwortung und Gefahr und halten sich im Interesse aller an die Strassenverkehrsordnung (StVO). Der Tourguide des Winevalley-Chapters lehnt gegenüber Fahrer/Innen\, Helfer und Drittpersonen jegliche Haftung für Sach- und Personenschäden ab. Jede(r) Fahrer/In ist alleine für seine Versicherung des Fahrzeuges verantwortlich. Durch die Teilnahme an den Ausfahrten und Veranstaltungen verzichtet jede(r) Fahrer/In auf irgendwelche Entschädigungsansprüche (Unfall\, Verletzungen\, usw.). Wir bitten deshalb alle Teilnehmer um volle Rücksicht. \n 
URL:https://winevalley-chapter.ch/anlass/hamburg-harley-days/
CATEGORIES:Harley-Davidson Veranstaltungen
END:VEVENT
END:VCALENDAR