BEGIN:VCALENDAR
VERSION:2.0
PRODID:-//Winevalley Chapter - ECPv6.9.0//NONSGML v1.0//EN
CALSCALE:GREGORIAN
METHOD:PUBLISH
X-WR-CALNAME:Winevalley Chapter
X-ORIGINAL-URL:https://winevalley-chapter.ch
X-WR-CALDESC:Veranstaltungen für Winevalley Chapter
REFRESH-INTERVAL;VALUE=DURATION:PT1H
X-Robots-Tag:noindex
X-PUBLISHED-TTL:PT1H
BEGIN:VTIMEZONE
TZID:Europe/Paris
BEGIN:DAYLIGHT
TZOFFSETFROM:+0100
TZOFFSETTO:+0200
TZNAME:CEST
DTSTART:20240331T010000
END:DAYLIGHT
BEGIN:STANDARD
TZOFFSETFROM:+0200
TZOFFSETTO:+0100
TZNAME:CET
DTSTART:20241027T010000
END:STANDARD
END:VTIMEZONE
BEGIN:VEVENT
DTSTART;TZID=Europe/Paris:20241004T183000
DTEND;TZID=Europe/Paris:20241004T223000
DTSTAMP:20260422T161123
CREATED:20240208T151232Z
LAST-MODIFIED:20240208T151743Z
UID:2290-1728066600-1728081000@winevalley-chapter.ch
SUMMARY:Chapter Höck Oktober
DESCRIPTION:Verantwortung: \nDie Teilnehmer fahren auf eigene Verantwortung und Gefahr und halten sich im Interesse aller an die Strassenverkehrsordnung (StVO). Der Tourguide des Winevalley-Chapters lehnt gegenüber Fahrer/Innen\, Helfer und Drittpersonen jegliche Haftung für Sach- und Personenschäden ab. Jede(r) Fahrer/In ist alleine für seine Versicherung des Fahrzeuges verantwortlich. Durch die Teilnahme an den Ausfahrten und Veranstaltungen verzichtet jede(r) Fahrer/In auf irgendwelche Entschädigungsansprüche (Unfall\, Verletzungen\, usw.). Wir bitten deshalb alle Teilnehmer um volle Rücksicht.
URL:https://winevalley-chapter.ch/anlass/chapter-oktober-hoeck/
CATEGORIES:Winevalley Anlass
END:VEVENT
BEGIN:VEVENT
DTSTART;TZID=Europe/Paris:20241026T100000
DTEND;TZID=Europe/Paris:20241026T173000
DTSTAMP:20260422T161123
CREATED:20240825T133158Z
LAST-MODIFIED:20240825T133158Z
UID:2477-1729936800-1729963800@winevalley-chapter.ch
SUMMARY:Chopf usäm Näbel
DESCRIPTION:Mit Ursi & Erwin
URL:https://winevalley-chapter.ch/anlass/chopf-usaem-naebel/
END:VEVENT
BEGIN:VEVENT
DTSTART;TZID=Europe/Paris:20241027T083000
DTEND;TZID=Europe/Paris:20241027T173000
DTSTAMP:20260422T161123
CREATED:20240825T133729Z
LAST-MODIFIED:20240825T133729Z
UID:2483-1730017800-1730050200@winevalley-chapter.ch
SUMMARY:Verschiebedatum: Chopf usäm Näbel
DESCRIPTION:Mit Ursi & Erwin
URL:https://winevalley-chapter.ch/anlass/verschiebedatum-chopf-usaem-naebel/
END:VEVENT
END:VCALENDAR