BEGIN:VCALENDAR
VERSION:2.0
PRODID:-//Winevalley Chapter - ECPv6.9.0//NONSGML v1.0//EN
CALSCALE:GREGORIAN
METHOD:PUBLISH
X-ORIGINAL-URL:https://winevalley-chapter.ch
X-WR-CALDESC:Veranstaltungen für Winevalley Chapter
REFRESH-INTERVAL;VALUE=DURATION:PT1H
X-Robots-Tag:noindex
X-PUBLISHED-TTL:PT1H
BEGIN:VTIMEZONE
TZID:Europe/Paris
BEGIN:DAYLIGHT
TZOFFSETFROM:+0100
TZOFFSETTO:+0200
TZNAME:CEST
DTSTART:20250330T010000
END:DAYLIGHT
BEGIN:STANDARD
TZOFFSETFROM:+0200
TZOFFSETTO:+0100
TZNAME:CET
DTSTART:20251026T010000
END:STANDARD
END:VTIMEZONE
BEGIN:VEVENT
DTSTART;TZID=Europe/Paris:20250307T183000
DTEND;TZID=Europe/Paris:20250307T233000
DTSTAMP:20260422T074711
CREATED:20250123T204556Z
LAST-MODIFIED:20250206T073437Z
UID:2678-1741372200-1741390200@winevalley-chapter.ch
SUMMARY:Höck
DESCRIPTION:
URL:https://winevalley-chapter.ch/anlass/hoeck/
LOCATION:Stelzenhof\, Stelzenhofstrasse 11\, Weinfelden\, TG\, 8570\, Schweiz
CATEGORIES:Winevalley Anlass
END:VEVENT
BEGIN:VEVENT
DTSTART;TZID=Europe/Paris:20250321T183000
DTEND;TZID=Europe/Paris:20250321T233000
DTSTAMP:20260422T074711
CREATED:20250123T205858Z
LAST-MODIFIED:20250123T205858Z
UID:2680-1742581800-1742599800@winevalley-chapter.ch
SUMMARY:Winevalley's Bowling competition
DESCRIPTION:Achtung! Anmeldeschluss 28.02.2025 \n\n1830 Essen/Snacks\n2000 – 2200 Bowlen\n\n 
URL:https://winevalley-chapter.ch/anlass/winevalleys-bowling-competition/
LOCATION:Freizeitpark Niederbüren\, Staatsstrasse 17\, Niederbüren\, 9246\, Switzerland
CATEGORIES:Winevalley Anlass
END:VEVENT
END:VCALENDAR