BEGIN:VCALENDAR
VERSION:2.0
PRODID:-//Winevalley Chapter - ECPv6.9.0//NONSGML v1.0//EN
CALSCALE:GREGORIAN
METHOD:PUBLISH
X-ORIGINAL-URL:https://winevalley-chapter.ch
X-WR-CALDESC:Veranstaltungen für Winevalley Chapter
REFRESH-INTERVAL;VALUE=DURATION:PT1H
X-Robots-Tag:noindex
X-PUBLISHED-TTL:PT1H
BEGIN:VTIMEZONE
TZID:Europe/Paris
BEGIN:DAYLIGHT
TZOFFSETFROM:+0100
TZOFFSETTO:+0200
TZNAME:CEST
DTSTART:20250330T010000
END:DAYLIGHT
BEGIN:STANDARD
TZOFFSETFROM:+0200
TZOFFSETTO:+0100
TZNAME:CET
DTSTART:20251026T010000
END:STANDARD
END:VTIMEZONE
BEGIN:VEVENT
DTSTART;VALUE=DATE:20250523
DTEND;VALUE=DATE:20250604
DTSTAMP:20260422T021702
CREATED:20250123T211151Z
LAST-MODIFIED:20250414T212511Z
UID:2692-1747958400-1748995199@winevalley-chapter.ch
SUMMARY:Chapterreise
DESCRIPTION:Weiter Info folgen
URL:https://winevalley-chapter.ch/anlass/chapterreise/
LOCATION:Sardinien\, Olbia\, Italy
CATEGORIES:Winevalley Anlass
END:VEVENT
BEGIN:VEVENT
DTSTART;TZID=Europe/Paris:20250606T183000
DTEND;TZID=Europe/Paris:20250606T233000
DTSTAMP:20260422T021702
CREATED:20250123T211346Z
LAST-MODIFIED:20250123T211346Z
UID:2695-1749234600-1749252600@winevalley-chapter.ch
SUMMARY:Höck
DESCRIPTION:
URL:https://winevalley-chapter.ch/anlass/hoeck-4/
LOCATION:Stelzenhof\, Stelzenhofstrasse 11\, Weinfelden\, TG\, 8570\, Schweiz
CATEGORIES:Winevalley Anlass
END:VEVENT
BEGIN:VEVENT
DTSTART;VALUE=DATE:20250612
DTEND;VALUE=DATE:20250616
DTSTAMP:20260422T021702
CREATED:20250127T011942Z
LAST-MODIFIED:20250127T011942Z
UID:2712-1749686400-1750031999@winevalley-chapter.ch
SUMMARY:EUROPEAN H.O.G. RALLY 2025
DESCRIPTION:
URL:https://winevalley-chapter.ch/anlass/european-h-o-g-rally-2025/
END:VEVENT
BEGIN:VEVENT
DTSTART;VALUE=DATE:20250613
DTEND;VALUE=DATE:20250616
DTSTAMP:20260422T021702
CREATED:20250127T011613Z
LAST-MODIFIED:20250127T011613Z
UID:2709-1749772800-1750031999@winevalley-chapter.ch
SUMMARY:18. APPEZÖLLE BIKER-TRÖFFE
DESCRIPTION:
URL:https://winevalley-chapter.ch/anlass/18-appezoelle-biker-troeffe/
END:VEVENT
BEGIN:VEVENT
DTSTART;VALUE=DATE:20250619
DTEND;VALUE=DATE:20250623
DTSTAMP:20260422T021702
CREATED:20250127T012150Z
LAST-MODIFIED:20250127T012150Z
UID:2714-1750291200-1750636799@winevalley-chapter.ch
SUMMARY:Magic Bike Rüdesheim
DESCRIPTION:
URL:https://winevalley-chapter.ch/anlass/magic-bike-ruedesheim-3/
END:VEVENT
BEGIN:VEVENT
DTSTART;VALUE=DATE:20250627
DTEND;VALUE=DATE:20250630
DTSTAMP:20260422T021702
CREATED:20250127T012941Z
LAST-MODIFIED:20250414T212742Z
UID:2716-1750982400-1751241599@winevalley-chapter.ch
SUMMARY:8. Harley-Treffen Grächen
DESCRIPTION:
URL:https://winevalley-chapter.ch/anlass/8-harley-treffen-graechen/
LOCATION:Grächen\, Grächen\, 3925\, Switzerland
END:VEVENT
END:VCALENDAR