BEGIN:VCALENDAR
VERSION:2.0
PRODID:-//Winevalley Chapter - ECPv6.9.0//NONSGML v1.0//EN
CALSCALE:GREGORIAN
METHOD:PUBLISH
X-ORIGINAL-URL:https://winevalley-chapter.ch
X-WR-CALDESC:Veranstaltungen für Winevalley Chapter
REFRESH-INTERVAL;VALUE=DURATION:PT1H
X-Robots-Tag:noindex
X-PUBLISHED-TTL:PT1H
BEGIN:VTIMEZONE
TZID:Europe/Paris
BEGIN:DAYLIGHT
TZOFFSETFROM:+0100
TZOFFSETTO:+0200
TZNAME:CEST
DTSTART:20250330T010000
END:DAYLIGHT
BEGIN:STANDARD
TZOFFSETFROM:+0200
TZOFFSETTO:+0100
TZNAME:CET
DTSTART:20251026T010000
END:STANDARD
END:VTIMEZONE
BEGIN:VEVENT
DTSTART;VALUE=DATE:20250801
DTEND;VALUE=DATE:20250802
DTSTAMP:20260421T225436
CREATED:20250414T214529Z
LAST-MODIFIED:20250414T214529Z
UID:2763-1754006400-1754092799@winevalley-chapter.ch
SUMMARY:Moonstone
DESCRIPTION:
URL:https://winevalley-chapter.ch/anlass/moonstone/
END:VEVENT
BEGIN:VEVENT
DTSTART;VALUE=DATE:20250808
DTEND;VALUE=DATE:20250811
DTSTAMP:20260421T225436
CREATED:20250128T170952Z
LAST-MODIFIED:20250128T170952Z
UID:2724-1754611200-1754870399@winevalley-chapter.ch
SUMMARY:Biker Days
DESCRIPTION:
URL:https://winevalley-chapter.ch/anlass/biker-days/
LOCATION:Biker Days Basel\, St. Jakob\, Basel\, 4052\, Schweiz
END:VEVENT
BEGIN:VEVENT
DTSTART;VALUE=DATE:20250823
DTEND;VALUE=DATE:20250825
DTSTAMP:20260421T225436
CREATED:20250414T215215Z
LAST-MODIFIED:20250414T215215Z
UID:2765-1755907200-1756079999@winevalley-chapter.ch
SUMMARY:Chapterweekend (1)
DESCRIPTION:Es stehen zur Zeit drei Termine zur Auswahl: \n\n23-24.08. 2025\n30-31.08. 2025\n06.-07.09.2025\n\nOrganisation Peter Steiger und Peter Fäh\, Roadcaptain ?
URL:https://winevalley-chapter.ch/anlass/chapterweekend-1/
CATEGORIES:Winevalley Anlass
END:VEVENT
BEGIN:VEVENT
DTSTART;VALUE=DATE:20250830
DTEND;VALUE=DATE:20250901
DTSTAMP:20260421T225436
CREATED:20250128T170812Z
LAST-MODIFIED:20250414T215616Z
UID:2722-1756512000-1756684799@winevalley-chapter.ch
SUMMARY:Chapterweekend (2)
DESCRIPTION:Ort ist noch nicht definitiv bestimmt. Wietere Info sind unterwegs 🙂
URL:https://winevalley-chapter.ch/anlass/chapterweekend/
END:VEVENT
END:VCALENDAR