BEGIN:VCALENDAR
VERSION:2.0
PRODID:-//Winevalley Chapter - ECPv6.9.0//NONSGML v1.0//EN
CALSCALE:GREGORIAN
METHOD:PUBLISH
X-WR-CALNAME:Winevalley Chapter
X-ORIGINAL-URL:https://winevalley-chapter.ch
X-WR-CALDESC:Veranstaltungen für Winevalley Chapter
REFRESH-INTERVAL;VALUE=DURATION:PT1H
X-Robots-Tag:noindex
X-PUBLISHED-TTL:PT1H
BEGIN:VTIMEZONE
TZID:Europe/Paris
BEGIN:DAYLIGHT
TZOFFSETFROM:+0100
TZOFFSETTO:+0200
TZNAME:CEST
DTSTART:20250330T010000
END:DAYLIGHT
BEGIN:STANDARD
TZOFFSETFROM:+0200
TZOFFSETTO:+0100
TZNAME:CET
DTSTART:20251026T010000
END:STANDARD
END:VTIMEZONE
BEGIN:VEVENT
DTSTART;TZID=Europe/Paris:20251003T183000
DTEND;TZID=Europe/Paris:20251003T233000
DTSTAMP:20260421T192706
CREATED:20250414T220145Z
LAST-MODIFIED:20250414T220145Z
UID:2770-1759516200-1759534200@winevalley-chapter.ch
SUMMARY:Höck / ev. Bentley Uzwil
DESCRIPTION:Bentley – organisiert Peter F.
URL:https://winevalley-chapter.ch/anlass/hoeck-ev-bentley-uzwil/
LOCATION:Stelzenhof\, Stelzenhofstrasse 11\, Weinfelden\, TG\, 8570\, Schweiz
CATEGORIES:Winevalley Anlass
END:VEVENT
END:VCALENDAR